BEGIN:VCALENDAR
VERSION:2.0
PRODID:gruene-beelitz.de
METHOD:PUBLISH
BEGIN:VTIMEZONE
TZID:Europe/Berlin
X-LIC-LOCATION:Europe/Berlin
BEGIN:DAYLIGHT
TZOFFSETFROM:+0100
TZOFFSETTO:+0200
TZNAME:CEST
DTSTART:19700329T020000
RRULE:FREQ=YEARLY;INTERVAL=1;BYDAY=-1SU;BYMONTH=3
END:DAYLIGHT
BEGIN:STANDARD
TZOFFSETFROM:+0200
TZOFFSETTO:+0100
TZNAME:CET
DTSTART:19701025T030000
RRULE:FREQ=YEARLY;INTERVAL=1;BYDAY=-1SU;BYMONTH=10
END:STANDARD
END:VTIMEZONE
BEGIN:VEVENT
UID:6397e989b112f599cdb30189804b449f@gruene-beelitz.de
URL;VALUE=URI:https://gruene-beelitz.de/termine/annalena-baerbock-im-apfe
 lbaum/
LOCATION:Gemeindezentrum im Apfelbaum, Potsdamer Strasse 64, 14552 Michen
 dorf
SUMMARY:Annalena Baerbock im Apfelbaum
DESCRIPTION;ALTREP="data:text/html,%0A%3Cp%3EDiskussionsveranstaltung%20z
 ur%20Bundestagswahl%20mit%20Annalena%20Baerbock.%3C%2Fp%3E%0A%0A%0A%0A%3C
 p%3EWeitere%20Informationen%20%3Ca%20href%3D%22https%3A%2F%2Fwww.gruene-m
 ichendorf.de%2Fhome%22%20target%3D%22_blank%22%20rel%3D%22noreferrer%20no
 opener%22%3Ehier%3C%2Fa%3E.%3C%2Fp%3E%0A%0A%0A%0A%3Cp%3EEinlass%20ist%20n
 ur%20f%C3%BCr%20angemeldete%20Personen%20m%C3%B6glich.%3C%2Fp%3E%0A%0A%0A
 %0A%3Cp%3E%3Ca%20href%3D%22https%3A%2F%2Fapp.guestoo.de%2Fpublic%2Fevent%
 2F6443eef8-be74-4472-b24f-281ea4f916b5%22%20target%3D%22_blank%22%20rel%3
 D%22noreferrer%20noopener%22%3EAnmeldelink%3C%2Fa%3E%3C%2Fp%3E%0A%0A%0A%0
 A%3Cp%3EBitte%20beachten%20Sie%20die%20Hinweise%20f%C3%BCr%20den%20Besuch
 %20auf%20der%20Anmeldeseite%2C%20insbesondere%20zu%20den%20Gegenst%C3%A4n
 den%2C%20die%20%28nicht%29%20mitgebracht%20werden%20d%C3%BCrfen.%20Aufgru
 nd%20der%20Einlasskontrollen%20ist%20mit%20Verz%C3%B6gerungen%20zu%20rech
 nen.%20Bitte%20seinen%20Sie%20sehr%20rechtzeitig%20da.%3C%2Fp%3E%0A":Disk
 ussionsveranstaltung zur Bundestagswahl mit Annalena Baerbock.\n\nWeitere
  Informationen hier.\n\nEinlass ist nur für angemeldete Personen möglic
 h.\n\nAnmeldelink\n\nBitte beachten Sie die Hinweise für den Besuch auf 
 der Anmeldeseite\, insbesondere zu den Gegenständen\, die (nicht) mitgeb
 racht werden dürfen. Aufgrund der Einlasskontrollen ist mit Verzögerung
 en zu rechnen. Bitte seinen Sie sehr rechtzeitig da.
CLASS:PUBLIC
DTSTART;TZID=Europe/Berlin:20250123T193000
DTEND;TZID=Europe/Berlin:20250123T213000
DTSTAMP:20260420T005505
END:VEVENT
END:VCALENDAR