BEGIN:VCALENDAR
VERSION:2.0
PRODID:gruene-beelitz.de
METHOD:PUBLISH
BEGIN:VTIMEZONE
TZID:Europe/Berlin
X-LIC-LOCATION:Europe/Berlin
BEGIN:DAYLIGHT
TZOFFSETFROM:+0100
TZOFFSETTO:+0200
TZNAME:CEST
DTSTART:19700329T020000
RRULE:FREQ=YEARLY;INTERVAL=1;BYDAY=-1SU;BYMONTH=3
END:DAYLIGHT
BEGIN:STANDARD
TZOFFSETFROM:+0200
TZOFFSETTO:+0100
TZNAME:CET
DTSTART:19701025T030000
RRULE:FREQ=YEARLY;INTERVAL=1;BYDAY=-1SU;BYMONTH=10
END:STANDARD
END:VTIMEZONE
BEGIN:VEVENT
UID:abbb722aed8937af0f1b547bfcbc28e8@gruene-beelitz.de
URL;VALUE=URI:https://gruene-beelitz.de/termine/demo-in-beelitz-nie-wiede
 r-ist-jetzt/
LOCATION:Kirchplatz, 14547 Beelitz
SUMMARY:Demo in Beelitz: Nie Wieder ist JETZT
DESCRIPTION;ALTREP="data:text/html,am%2024.%20Februar%202024%20laden%20wi
 r%20Sie%20herzlich%20ein%2C%20gemeinsam%20auf%20dem%20Kirchplatz%20in%20B
 eelitz%20ein%20starkes%20Zeichen%20zu%20setzen.%20Unter%20dem%20Motto%20%
 22Nie%20Wieder%20Ist%20Jetzt%22%20m%C3%B6chten%20wir%20gemeinsam%20gegen%
 20Rechtsextremismus%20aufstehen%20und%20f%C3%BCr%20eine%20starke%20Demokr
 atie%2C%20auch%20in%20unserer%20Kommunalpolitik%2C%20eintreten.%0D%0A%0D%
 0AWir%20schlie%C3%9Fen%20uns%20dem%20Aufruf%20zur%20angemeldeten%20Demons
 tration%20an.%0D%0A%0D%0AIn%20einer%20Zeit%2C%20in%20der%20extremistische
 %20Str%C3%B6mungen%20wieder%20erstarken%2C%20ist%20es%20wichtig%2C%20dass
 %20wir%20als%20Gesellschaft%20vereint%20auftreten%20und%20f%C3%BCr%20unse
 re%20demokratischen%20Werte%20einstehen.%20Unsere%20Vielfalt%20ist%20unse
 re%20St%C3%A4rke%2C%20und%20es%20ist%20unsere%20Pflicht%2C%20sie%20zu%20s
 ch%C3%BCtzen%20und%20zu%20verteidigen.%0D%0A%0D%0ADeshalb%20rufen%20wir%2
 0Sie%20alle%20dazu%20auf%2C%20sich%20uns%20anzuschlie%C3%9Fen%2C%20um%20e
 in%20deutliches%20Signal%20gegen%20Hass%2C%20Ausgrenzung%20und%20Intolera
 nz%20zu%20senden.%20Lassen%20Sie%20uns%20gemeinsam%20daf%C3%BCr%20k%C3%A4
 mpfen%2C%20dass%20Beelitz%20und%20unsere%20gesamte%20Gesellschaft%20ein%2
 0Ort%20bleibt%2C%20an%20dem%20jeder%20Mensch%20respektiert%20und%20akzept
 iert%20wird.%0D%0A%0D%0ADie%20Demo%20beginnt%20am%2024.%20Februar%202024%
 20um%2011%20Uhr%20auf%20dem%20Kirchplatz%20in%20Beelitz.%20Zeigen%20wir%2
 0gemeinsam%2C%20dass%20wir%20f%C3%BCr%20eine%20offene%2C%20demokratische%
 20und%20inklusive%20Gesellschaft%20stehen%21%0D%0A%0D%0A%0D%0A%0D%0A":am 
 24. Februar 2024 laden wir Sie herzlich ein\, gemeinsam auf dem Kirchplat
 z in Beelitz ein starkes Zeichen zu setzen. Unter dem Motto "Nie Wieder I
 st Jetzt" möchten wir gemeinsam gegen Rechtsextremismus aufstehen und f
 ür eine starke Demokratie\, auch in unserer Kommunalpolitik\, eintreten.
 \n\nWir schließen uns dem Aufruf zur angemeldeten Demonstration an.\n\nI
 n einer Zeit\, in der extremistische Strömungen wieder erstarken\, ist e
 s wichtig\, dass wir als Gesellschaft vereint auftreten und für unsere d
 emokratischen Werte einstehen. Unsere Vielfalt ist unsere Stärke\, und e
 s ist unsere Pflicht\, sie zu schützen und zu verteidigen.\n\nDeshalb ru
 fen wir Sie alle dazu auf\, sich uns anzuschließen\, um ein deutliches S
 ignal gegen Hass\, Ausgrenzung und Intoleranz zu senden. Lassen Sie uns g
 emeinsam dafür kämpfen\, dass Beelitz und unsere gesamte Gesellschaft e
 in Ort bleibt\, an dem jeder Mensch respektiert und akzeptiert wird.\n\nD
 ie Demo beginnt am 24. Februar 2024 um 11 Uhr auf dem Kirchplatz in Beeli
 tz. Zeigen wir gemeinsam\, dass wir für eine offene\, demokratische und 
 inklusive Gesellschaft stehen!
CLASS:PUBLIC
DTSTART;TZID=Europe/Berlin:20240224T110000
DTEND;TZID=Europe/Berlin:20240224T133000
DTSTAMP:20260420T020930
END:VEVENT
END:VCALENDAR