BEGIN:VCALENDAR
VERSION:2.0
PRODID:gruene-beelitz.de
METHOD:PUBLISH
BEGIN:VTIMEZONE
TZID:Europe/Berlin
X-LIC-LOCATION:Europe/Berlin
BEGIN:DAYLIGHT
TZOFFSETFROM:+0100
TZOFFSETTO:+0200
TZNAME:CEST
DTSTART:19700329T020000
RRULE:FREQ=YEARLY;INTERVAL=1;BYDAY=-1SU;BYMONTH=3
END:DAYLIGHT
BEGIN:STANDARD
TZOFFSETFROM:+0200
TZOFFSETTO:+0100
TZNAME:CET
DTSTART:19701025T030000
RRULE:FREQ=YEARLY;INTERVAL=1;BYDAY=-1SU;BYMONTH=10
END:STANDARD
END:VTIMEZONE
BEGIN:VEVENT
UID:29e78400ad630accf3b4d922a2569e49@gruene-beelitz.de
URL;VALUE=URI:https://gruene-beelitz.de/termine/gruener-kaffeeklatsch-rad
 ausflug/
LOCATION:
SUMMARY:Grüner Kaffeeklatsch (Radausflug)
DESCRIPTION;ALTREP="data:text/html,Der%20Gr%C3%BCne%20Sommer%20geht%20in%
 20eine%20neue%20Runde.%20Nach%20Kaffeeklatsch%20und%20T%C3%BCmpeln%20in%2
 0der%20Nieplitz%20laden%20wir%20Euch%20am%20%3Cstrong%3ESonntag%2029.%20A
 ugust%202021%3C%2Fstrong%3E%20zu%20einer%20gemeinsamen%20%3Cstrong%3EFahr
 radtour%20nach%20Rieben%20%3C%2Fstrong%3Eein.%20Los%20geht%20es%20um%20%3
 Cstrong%3E14%20Uhr%3C%2Fstrong%3E%20auf%20dem%20%3Cstrong%3EMarktplatz%3C
 %2Fstrong%3E%20in%20der%20Altstadt%20in%20%3Cstrong%3EBeelitz%3C%2Fstrong
 %3E.%20Die%20Fahrt%20dauert%20eine%20gute%20Stunde%20und%20ist%20f%C3%BCr
 %20Familien%20und%20Kinder%20bestens%20geeignet.%20Wir%20fahren%20%C3%BCb
 erwiegend%20auf%20Fahrradwegen%20und%20kurze%20Wege%20auf%20ruhigen%20Str
 a%C3%9Fen.%20Nach%20dem%20Besuch%20der%20%3Ca%20href%3D%22https%3A%2F%2Fw
 ww.weidelandfarm.de%2F%22%20data-type%3D%22URL%22%20data-id%3D%22https%3A
 %2F%2Fwww.weidelandfarm.de%2F%22%3EWeidelandfarm%20in%20Rieben%3C%2Fa%3E%
 20geht%20es%20zur%C3%BCck%20nach%20Beelitz.%20Die%20Tour%20ist%20insgesam
 t%2020%20km%20lang%20und%20endet%20voraussichtlich%20gegen%2018%20Uhr.":D
 er Grüne Sommer geht in eine neue Runde. Nach Kaffeeklatsch und Tümpeln
  in der Nieplitz laden wir Euch am Sonntag 29. August 2021 zu einer gemei
 nsamen Fahrradtour nach Rieben ein. Los geht es um 14 Uhr auf dem Marktpl
 atz in der Altstadt in Beelitz. Die Fahrt dauert eine gute Stunde und ist
  für Familien und Kinder bestens geeignet. Wir fahren überwiegend auf F
 ahrradwegen und kurze Wege auf ruhigen Straßen. Nach dem Besuch der Weid
 elandfarm in Rieben geht es zurück nach Beelitz. Die Tour ist insgesamt 
 20 km lang und endet voraussichtlich gegen 18 Uhr.
CLASS:PUBLIC
DTSTART;TZID=Europe/Berlin:20210829T140000
DTEND;TZID=Europe/Berlin:20210829T180000
DTSTAMP:20260425T113122
END:VEVENT
END:VCALENDAR