BEGIN:VCALENDAR
VERSION:2.0
PRODID:gruene-beelitz.de
METHOD:PUBLISH
BEGIN:VTIMEZONE
TZID:Europe/Berlin
X-LIC-LOCATION:Europe/Berlin
BEGIN:DAYLIGHT
TZOFFSETFROM:+0100
TZOFFSETTO:+0200
TZNAME:CEST
DTSTART:19700329T020000
RRULE:FREQ=YEARLY;INTERVAL=1;BYDAY=-1SU;BYMONTH=3
END:DAYLIGHT
BEGIN:STANDARD
TZOFFSETFROM:+0200
TZOFFSETTO:+0100
TZNAME:CET
DTSTART:19701025T030000
RRULE:FREQ=YEARLY;INTERVAL=1;BYDAY=-1SU;BYMONTH=10
END:STANDARD
END:VTIMEZONE
BEGIN:VEVENT
UID:c8cada064afa9ccfd7038d73e4804881@gruene-beelitz.de
URL;VALUE=URI:https://gruene-beelitz.de/termine/picknick-mit-alpakas/
LOCATION:Bahnhof Bucholz (Zauche), Beelitz OT Buchholz
SUMMARY:picknick mit Alpakas
DESCRIPTION;ALTREP="data:text/html,%0A%3Ch3%20class%3D%22wp-block-heading
 %22%3E%3Cstrong%3EZwischen%20Wald%20und%20Feld%20bei%20Buchholz%3C%2Fstro
 ng%3E%3C%2Fh3%3E%0A%0A%0A%0A%3Cp%3EWir%20f%C3%BChren%20die%20Alpakas%20de
 r%20%3Ca%20href%3D%22https%3A%2F%2Fwww.pachamamas.info%2F%22%20data-type%
 3D%22URL%22%20data-id%3D%22https%3A%2F%2Fwww.pachamamas.info%2F%22%20targ
 et%3D%22_blank%22%20rel%3D%22noreferrer%20noopener%22%3EFinca%20Pachamama
 s%3C%2Fa%3E%20bei%20einer%20kleinen%20Wanderung%20%283km%29%20zu%20einem%
 20Picknickplatz.%20Bitte%20bringt%20eine%20Kleinigkeit%20zu%20essen%20und
 %20zu%20trinken%20mit.%3Cbr%3ETreffpunkt%20ist%20der%20Bahnhof%20Buchholz
 .%3Cbr%3ESonntag%2C%207.9.2025%20um%2013%3A30%20Uhr%3C%2Fp%3E%0A%0A%0A%0A
 %3Cp%3E%3C%2Fp%3E%0A":Zwischen Wald und Feld bei Buchholz\n\nWir führen 
 die Alpakas der Finca Pachamamas bei einer kleinen Wanderung (3km) zu ein
 em Picknickplatz. Bitte bringt eine Kleinigkeit zu essen und zu trinken m
 it.Treffpunkt ist der Bahnhof Buchholz.Sonntag\, 7.9.2025 um 13:30 Uhr
CLASS:PUBLIC
DTSTART;TZID=Europe/Berlin:20250907T133000
DTEND;TZID=Europe/Berlin:20250907T153000
DTSTAMP:20260420T005109
END:VEVENT
END:VCALENDAR