BEGIN:VCALENDAR
VERSION:2.0
PRODID:gruene-beelitz.de
METHOD:PUBLISH
BEGIN:VTIMEZONE
TZID:Europe/Berlin
X-LIC-LOCATION:Europe/Berlin
BEGIN:DAYLIGHT
TZOFFSETFROM:+0100
TZOFFSETTO:+0200
TZNAME:CEST
DTSTART:19700329T020000
RRULE:FREQ=YEARLY;INTERVAL=1;BYDAY=-1SU;BYMONTH=3
END:DAYLIGHT
BEGIN:STANDARD
TZOFFSETFROM:+0200
TZOFFSETTO:+0100
TZNAME:CET
DTSTART:19701025T030000
RRULE:FREQ=YEARLY;INTERVAL=1;BYDAY=-1SU;BYMONTH=10
END:STANDARD
END:VTIMEZONE
BEGIN:VEVENT
UID:ff00a3cbb02ced886eee787c0a1dd834@gruene-beelitz.de
URL;VALUE=URI:https://gruene-beelitz.de/termine/treffen-des-ortsverbands-
 beelitz-und-seddiner-see/
LOCATION:Grünes Büro, Berliner Straße 17, Beelitz
SUMMARY:Treffen des Ortsverbands Beelitz und Seddiner See
DESCRIPTION;ALTREP="data:text/html,%3Cstrong%3ETreffen%3C%2Fstrong%3E%20d
 es%20Ortsverbands%20B%C3%BCndnis%2090%2FDie%20Gr%C3%BCnen%20Beelitz%20und
 %20Seddiner%20See%2C%20offen%20f%C3%BCr%20alle%20Interessierten.%0D%0A%0D
 %0AWir%20treffen%20uns%20am%20Freitag%2017.%20November%20um%2018%3A30%20U
 hr%20im%20B%C3%BCro%20in%20Beelitz%20und%20besprechen%20unsere%20politisc
 hen%20Themen%20nach%20einer%20vorher%20verschickten%20Tagesordnung.%0D%0A
 %0D%0A%26nbsp%3B%0D%0A%0D%0A.%0D%0A%0D%0A%26nbsp%3B%0D%0A%0D%0A%26nbsp%3B
 %0D%0A%0D%0A%26nbsp%3B":Treffen des Ortsverbands Bündnis 90/Die Grünen 
 Beelitz und Seddiner See\, offen für alle Interessierten.\n\nWir treffen
  uns am Freitag 17. November um 18:30 Uhr im Büro in Beelitz und besprec
 hen unsere politischen Themen nach einer vorher verschickten Tagesordnung
 .\n\n \n\n.\n\n \n\n \n\n 
CLASS:PUBLIC
DTSTART;TZID=Europe/Berlin:20231117T183000
DTEND;TZID=Europe/Berlin:20231117T200000
DTSTAMP:20260420T011105
END:VEVENT
END:VCALENDAR