BEGIN:VCALENDAR
VERSION:2.0
PRODID:gruene-beelitz.de
METHOD:PUBLISH
BEGIN:VTIMEZONE
TZID:Europe/Berlin
X-LIC-LOCATION:Europe/Berlin
BEGIN:DAYLIGHT
TZOFFSETFROM:+0100
TZOFFSETTO:+0200
TZNAME:CEST
DTSTART:19700329T020000
RRULE:FREQ=YEARLY;INTERVAL=1;BYDAY=-1SU;BYMONTH=3
END:DAYLIGHT
BEGIN:STANDARD
TZOFFSETFROM:+0200
TZOFFSETTO:+0100
TZNAME:CET
DTSTART:19701025T030000
RRULE:FREQ=YEARLY;INTERVAL=1;BYDAY=-1SU;BYMONTH=10
END:STANDARD
END:VTIMEZONE
BEGIN:VEVENT
UID:1d03be70b57e533537e06d344bd780a8@gruene-beelitz.de
URL;VALUE=URI:https://gruene-beelitz.de/termine/treffen-des-ortsverbands-
 beelitz-und-seddiner-see-4/
LOCATION:Grünes Büro, Berliner Straße 17, Beelitz
SUMMARY:Treffen des Ortsverbands Beelitz und Seddiner See
DESCRIPTION;ALTREP="data:text/html,%3Cstrong%3ETreffen%3C%2Fstrong%3E%20d
 es%20Ortsverbands%20B%C3%BCndnis%2090%2FDie%20Gr%C3%BCnen%20Beelitz%20und
 %20Seddiner%20See%2C%20offen%20f%C3%BCr%20alle%20Interessierten.%0D%0A%0D
 %0AWir%20treffen%20uns%20am%20Donnerstag%2C%20dem%2016.04.2024%20um%2018%
 3A30%20Uhr%20im%20B%C3%BCro%20in%20Beelitz.%0D%0ADiesmal%20geht%20es%20um
 %20die%20Planung%20der%20Wahlkampf-Aktionen%20im%20Mai%2FJuni.%0D%0AWer%2
 0ist%20wo%20dabei%3F%20Wer%20kann%20Flyer%20verteilen%3F%20Wie%20ist%20de
 r%20Stand%20beim%20Plakatieren%3F%0D%0A%0D%0A%26nbsp%3B%0D%0A%0D%0A.%0D%0
 A%0D%0A%26nbsp%3B%0D%0A%0D%0A%26nbsp%3B%0D%0A%0D%0A%26nbsp%3B":Treffen de
 s Ortsverbands Bündnis 90/Die Grünen Beelitz und Seddiner See\, offen f
 ür alle Interessierten.\n\nWir treffen uns am Donnerstag\, dem 16.04.202
 4 um 18:30 Uhr im Büro in Beelitz.\n\nDiesmal geht es um die Planung der
  Wahlkampf-Aktionen im Mai/Juni.\n\nWer ist wo dabei? Wer kann Flyer vert
 eilen? Wie ist der Stand beim Plakatieren?\n\n \n\n.\n\n \n\n \n\n 
CLASS:PUBLIC
DTSTART;TZID=Europe/Berlin:20240516T183000
DTEND;TZID=Europe/Berlin:20240516T200000
DTSTAMP:20260420T005114
END:VEVENT
END:VCALENDAR