BEGIN:VCALENDAR
VERSION:2.0
PRODID:gruene-beelitz.de
METHOD:PUBLISH
BEGIN:VTIMEZONE
TZID:Europe/Berlin
X-LIC-LOCATION:Europe/Berlin
BEGIN:DAYLIGHT
TZOFFSETFROM:+0100
TZOFFSETTO:+0200
TZNAME:CEST
DTSTART:19700329T020000
RRULE:FREQ=YEARLY;INTERVAL=1;BYDAY=-1SU;BYMONTH=3
END:DAYLIGHT
BEGIN:STANDARD
TZOFFSETFROM:+0200
TZOFFSETTO:+0100
TZNAME:CET
DTSTART:19701025T030000
RRULE:FREQ=YEARLY;INTERVAL=1;BYDAY=-1SU;BYMONTH=10
END:STANDARD
END:VTIMEZONE
BEGIN:VEVENT
UID:7816cd3cdae305ac53c1af612e0baf89@gruene-beelitz.de
URL;VALUE=URI:https://gruene-beelitz.de/termine/vernissage-kleine-waldwun
 der-grosse-waldwunden/
LOCATION:Berliner Straße 17, Beelitz
SUMMARY:Vernissage „kleine waldwunder – GROSSE WALDWUNDEN“
DESCRIPTION;ALTREP="data:text/html,Gemeinsam%20mit%20den%20K%C3%BCnstleri
 nnen%20annhoff%20und%20Martina%20Witting-Greth%20er%C3%B6ffnet%20der%20La
 ndtagsabgeordneteThomas%20von%20Gizycki%0D%0Aum%2018%20Uhr%20im%20Wahlkre
 isb%C3%BCro%20die%20Kunstausstellung%20%22kleine%20waldwunder%20-%20GROSS
 E%20WALDWUNDEN%22.%0D%0AAlle%20Interessierten%20sind%20herzlich%20eingela
 den%21%0D%0A%0D%0A%3Cimg%20class%3D%22alignnone%20size-medium%20wp-image-
 2896%22%20src%3D%22https%3A%2F%2Fgruene-beelitz.de%2Fwp-content%2Fuploads
 %2Fsites%2F3%2F2023%2F08%2FSharepic_Pilz_quer-400x283.jpg%22%20alt%3D%22%
 22%20width%3D%22400%22%20height%3D%22283%22%20%2F%3E%0D%0A%0D%0A%26nbsp%3
 B":Gemeinsam mit den Künstlerinnen annhoff und Martina Witting-Greth er
 öffnet der LandtagsabgeordneteThomas von Gizycki\n\num 18 Uhr im Wahlkre
 isbüro die Kunstausstellung "kleine waldwunder - GROSSE WALDWUNDEN".\n\n
 Alle Interessierten sind herzlich eingeladen!\n\n 
CLASS:PUBLIC
DTSTART;TZID=Europe/Berlin:20230901T180000
DTEND;TZID=Europe/Berlin:20230901T193000
DTSTAMP:20260420T005505
END:VEVENT
END:VCALENDAR