BEGIN:VCALENDAR
VERSION:2.0
PRODID:gruene-beelitz.de
METHOD:PUBLISH
BEGIN:VTIMEZONE
TZID:Europe/Berlin
X-LIC-LOCATION:Europe/Berlin
BEGIN:DAYLIGHT
TZOFFSETFROM:+0100
TZOFFSETTO:+0200
TZNAME:CEST
DTSTART:19700329T020000
RRULE:FREQ=YEARLY;INTERVAL=1;BYDAY=-1SU;BYMONTH=3
END:DAYLIGHT
BEGIN:STANDARD
TZOFFSETFROM:+0200
TZOFFSETTO:+0100
TZNAME:CET
DTSTART:19701025T030000
RRULE:FREQ=YEARLY;INTERVAL=1;BYDAY=-1SU;BYMONTH=10
END:STANDARD
END:VTIMEZONE
BEGIN:VEVENT
UID:90254212fd90b8e0efc688240bc878bb@gruene-beelitz.de
URL;VALUE=URI:https://gruene-beelitz.de/termine/was-kommt-da-auf-uns-zu-i
 ndustriegebiet-seddin/
LOCATION:Potsdamer Straße 64 , Michendorf
SUMMARY:Was kommt da auf uns zu? Industriegebiet Seddin
DESCRIPTION;ALTREP="data:text/html,Was%20kommt%20da%20auf%20uns%20zu%3F%2
 0Diskussionsabend%20zum%20Industriegebiet%20Seddin%20am%20Montag%2C%20den
 %204.%20M%C3%A4rz%20um%2019%20Uhr%2C%20im%20Gemeindezentrum%20%E2%80%9EZu
 m%20Apfelbaum%E2%80%9C%20in%20Michendorf.%0D%0A%0D%0ADie%20Wirtschaftsf%C
 3%B6rderung%20des%20Landes%20Brandenburg%20plant%20ein%20300%20Hektar%20g
 ro%C3%9Fes%20Mega-Industriegebiet%20zwischen%20dem%20Autobahndreieck%20Po
 tsdam%20und%20dem%20G%C3%BCterbahnhof%20Seddin%20%E2%80%93%20MAZ%20und%20
 andere%20Medien%20berichteten%20bereits.%20Doch%20viele%20grundlegende%20
 Fragen%20sind%20noch%20offen.%0D%0A%0D%0AObwohl%20das%20betreffende%20Are
 al%20vollst%C3%A4ndig%20im%20Landschaftsschutzgebiet%20liegt%2C%20welches
 %20bereits%20mit%20sinkenden%20See-%20und%20Grundwasserspiegeln%20zu%20k%
 C3%A4mpfen%20hat%2C%20wird%20die%20Industrieansiedlung%20und%20der%20dami
 t%20einhergehende%20hohe%20Wasserbedarf%20von%20den%20Planern%20zun%C3%A4
 chst%20als%20unproblematisch%20eingesch%C3%A4tzt.%0D%0A%0D%0ADa%20ein%20T
 eil%20dieses%20Gebietes%20zu%20unserer%20Gemeinde%20geh%C3%B6rt%2C%20wird
 %20sich%20in%20jedem%20Fall%20auch%20Michendorf%20durch%20die%20Folgen%20
 der%20Umsetzung%20eines%20solchen%20Projektes%20in%20vielerlei%20Hinsicht
 %20ver%C3%A4ndern.%0D%0A%0D%0ASo%20werden%20st%C3%A4rkere%20Verkehrsstr%C
 3%B6me%20sowie%20weiterer%20Siedlungsdruck%20angesichts%20der%20erwartete
 n%20ca.%204.000%20neuen%20Arbeitspl%C3%A4tze%20unsere%20Gemeinde%20vor%20
 gro%C3%9Fe%20Herausforderungen%20stellen.%20Die%20Finanzierung%20der%20no
 twendigen%20Infrastruktur%2C%20die%20Auswirkungen%20auf%20Immobilien-%20u
 nd%20Mietpreise%2C%20auf%20das%20lokale%20Klima%20%E2%80%93%20all%20das%2
 0sind%20derzeit%20ungekl%C3%A4rte%20Fragen.%0D%0A%0D%0AInformieren%20Sie%
 20sich%20%C3%BCber%20die%20Pl%C3%A4ne%20und%20diskutieren%20Sie%20mit%20u
 ns%20%E2%80%93%20gemeinsam%20mit%20Fachleuten%20wollen%20wir%20uns%20vers
 chiedene%20Aspekte%20der%20Planung%20genauer%20ansehen.%0D%0A%0D%0A%0D%0A
 %0D%0AHier%20den%20Flyer%20downloaden%3A%0D%0A%0D%0A%3Ca%20href%3D%22http
 s%3A%2F%2Fgruene-beelitz.de%2Fwp-content%2Fuploads%2Fsites%2F3%2F2024%2F0
 2%2FWas-kommt-da-auf001.pdf%22%3Ehttps%3A%2F%2Fgruene-beelitz.de%2Fwp-con
 tent%2Fuploads%2Fsites%2F3%2F2024%2F02%2FWas-kommt-da-auf001.pdf%3C%2Fa%3
 E%0D%0A%0D%0A%3Cstrong%3EThomas%20von%20Gizycki%2C%20Mitglied%20des%20Bra
 ndenburger%20Landtages%2C%3C%2Fstrong%3E%20wird%20eine%20Einordnung%20des
 %20geplanten%20neuen%20Standortes%20geben%20und%20die%20Schwerpunkte%20vo
 n%20B%C3%BCndnis%2090%2FDie%20Gr%C3%BCnen%20f%C3%BCr%20eine%20nachhaltige
 %20Wirtschaftspolitik%20und%20-f%C3%B6rderung%20in%20unserer%20Region%20s
 kizzieren.%0D%0A%0D%0A%3Cstrong%3EVolker%20Wiedersberg%2C%20Vorsitzender%
 20der%20Gemeindevertretung%20Michendorf%20%3C%2Fstrong%3E%28B%C3%BCndnis%
 2090%2FDie%20Gr%C3%BCnen%29%20beleuchtet%20den%20bisherigen%20Beteiligung
 sprozess%20n%C3%A4her%20%E2%80%93%20wie%20agiert%20die%20Landesregierung%
 20gegen%C3%BCber%20den%20Kommunen%3F%20Welche%20Entscheidungsspielr%C3%A4
 ume%20haben%20wir%20als%20Gemeinde%3F%0D%0A%0D%0A%3Cstrong%3ESteffen%20Sc
 horcht%2C%20Sprecher%20der%20B%C3%BCrgerinitiative%20Gr%C3%BCnheide%3C%2F
 strong%3E%2C%20kann%20nach%20mehrj%C3%A4hriger%20Erfahrung%20mit%20der%20
 Tesla%20Giga-Factory%20aktuelle%20Berichte%20%C3%BCber%20tats%C3%A4chlich
 e%20Ver%C3%A4nderungen%20in%20seiner%20Gemeinde%20liefern.%0D%0A%0D%0A%3C
 strong%3EProf.%20Dr.%20Ernst%20Huenges%20%3C%2Fstrong%3Ewird%20den%20Blic
 k%20auf%20die%20Ressourcen%20Wasser%20und%20Boden%20richten%2C%20%3Cstron
 g%3EChristian%20Wessel%20%3C%2Fstrong%3E%C3%BCber%20die%20Herausforderung
 en%20in%20Bezug%20auf%20die%20soziale%20Infrastruktur%20informieren.%20Be
 ide%20geh%C3%B6ren%20der%20%3Cstrong%3EKlimainitiative%20Schwielowsee%3C%
 2Fstrong%3E%20an.%0D%0A%0D%0AFreuen%20Sie%20sich%20auf%20einen%20spannend
 en%20Abend%2C%20der%20Ihnen%20die%20M%C3%B6glichkeit%20bietet%2C%20in%20d
 as%20Thema%20einzusteigen%20und%20aktiv%20an%20der%20Diskussion%20dar%C3%
 BCber%20teilzunehmen%2C%20was%20uns%20hier%20vor%20Ort%20erwarten%20kann.
 %0D%0A%0D%0A%3Cem%3ESeid%20dabei%20und%20kommt%20am%2004.%20M%C3%A4rz%20u
 m%2019%20Uhr%20in%20das%20Gemeindezentrum%20Michendorf%2C%20Potsdamer%20S
 tr.%2054.%20Wir%20freuen%20uns%20auf%20den%20Austausch.%3C%2Fem%3E":Was k
 ommt da auf uns zu? Diskussionsabend zum Industriegebiet Seddin am Montag
 \, den 4. März um 19 Uhr\, im Gemeindezentrum „Zum Apfelbaum“ in Mic
 hendorf.\n\nDie Wirtschaftsförderung des Landes Brandenburg plant ein 30
 0 Hektar großes Mega-Industriegebiet zwischen dem Autobahndreieck Potsda
 m und dem Güterbahnhof Seddin – MAZ und andere Medien berichteten bere
 its. Doch viele grundlegende Fragen sind noch offen.\n\nObwohl das betref
 fende Areal vollständig im Landschaftsschutzgebiet liegt\, welches berei
 ts mit sinkenden See- und Grundwasserspiegeln zu kämpfen hat\, wird die 
 Industrieansiedlung und der damit einhergehende hohe Wasserbedarf von den
  Planern zunächst als unproblematisch eingeschätzt.\n\nDa ein Teil dies
 es Gebietes zu unserer Gemeinde gehört\, wird sich in jedem Fall auch Mi
 chendorf durch die Folgen der Umsetzung eines solchen Projektes in vieler
 lei Hinsicht verändern.\n\nSo werden stärkere Verkehrsströme sowie wei
 terer Siedlungsdruck angesichts der erwarteten ca. 4.000 neuen Arbeitspl
 ätze unsere Gemeinde vor große Herausforderungen stellen. Die Finanzier
 ung der notwendigen Infrastruktur\, die Auswirkungen auf Immobilien- und 
 Mietpreise\, auf das lokale Klima – all das sind derzeit ungeklärte Fr
 agen.\n\nInformieren Sie sich über die Pläne und diskutieren Sie mit un
 s – gemeinsam mit Fachleuten wollen wir uns verschiedene Aspekte der Pl
 anung genauer ansehen.\n\nHier den Flyer downloaden:\n\nhttps://gruene-be
 elitz.de/wp-content/uploads/sites/3/2024/02/Was-kommt-da-auf001.pdf\n\nTh
 omas von Gizycki\, Mitglied des Brandenburger Landtages\, wird eine Einor
 dnung des geplanten neuen Standortes geben und die Schwerpunkte von Bünd
 nis 90/Die Grünen für eine nachhaltige Wirtschaftspolitik und -förderu
 ng in unserer Region skizzieren.\n\nVolker Wiedersberg\, Vorsitzender der
  Gemeindevertretung Michendorf (Bündnis 90/Die Grünen) beleuchtet den b
 isherigen Beteiligungsprozess näher – wie agiert die Landesregierung g
 egenüber den Kommunen? Welche Entscheidungsspielräume haben wir als Gem
 einde?\n\nSteffen Schorcht\, Sprecher der Bürgerinitiative Grünheide\, 
 kann nach mehrjähriger Erfahrung mit der Tesla Giga-Factory aktuelle Ber
 ichte über tatsächliche Veränderungen in seiner Gemeinde liefern.\n\nP
 rof. Dr. Ernst Huenges wird den Blick auf die Ressourcen Wasser und Boden
  richten\, Christian Wessel über die Herausforderungen in Bezug auf die 
 soziale Infrastruktur informieren. Beide gehören der Klimainitiative Sch
 wielowsee an.\n\nFreuen Sie sich auf einen spannenden Abend\, der Ihnen d
 ie Möglichkeit bietet\, in das Thema einzusteigen und aktiv an der Disku
 ssion darüber teilzunehmen\, was uns hier vor Ort erwarten kann.\n\nSeid
  dabei und kommt am 04. März um 19 Uhr in das Gemeindezentrum Michendorf
 \, Potsdamer Str. 54. Wir freuen uns auf den Austausch.
CLASS:PUBLIC
DTSTART;TZID=Europe/Berlin:20240304T190000
DTEND;TZID=Europe/Berlin:20240304T203000
DTSTAMP:20260421T095636
END:VEVENT
END:VCALENDAR